BEGIN:VCALENDAR
VERSION:2.0
PRODID:-//The Conservatory - ECPv4.5.12.3//NONSGML v1.0//EN
CALSCALE:GREGORIAN
METHOD:PUBLISH
X-WR-CALNAME:The Conservatory
X-ORIGINAL-URL:http://dancesadc.com
X-WR-CALDESC:Events for The Conservatory
BEGIN:VEVENT
DTSTART;TZID=UTC+0:20180522T160000
DTEND;TZID=UTC+0:20180522T200000
DTSTAMP:20260425T121537
CREATED:20180226T163239Z
LAST-MODIFIED:20180226T163239Z
UID:1288-1527004800-1527019200@dancesadc.com
SUMMARY:Dress Rehearsals - Time Details TBA
DESCRIPTION:
URL:http://dancesadc.com/event/dress-rehearsals-time-details-tba-2/
LOCATION:14 Granada St.\, St. Augustine\, FL\, 32084\, United States
END:VEVENT
END:VCALENDAR