BEGIN:VCALENDAR
VERSION:2.0
PRODID:-//The Conservatory - ECPv4.5.12.3//NONSGML v1.0//EN
CALSCALE:GREGORIAN
METHOD:PUBLISH
X-WR-CALNAME:The Conservatory
X-ORIGINAL-URL:http://dancesadc.com
X-WR-CALDESC:Events for The Conservatory
BEGIN:VEVENT
DTSTART;TZID=UTC+0:20180428T100000
DTEND;TZID=UTC+0:20180428T170000
DTSTAMP:20260425T104243
CREATED:20180411T204834Z
LAST-MODIFIED:20180411T204834Z
UID:1383-1524909600-1524934800@dancesadc.com
SUMMARY:Family Fun Fest
DESCRIPTION:
URL:http://dancesadc.com/event/family-fun-fest/
END:VEVENT
END:VCALENDAR