BEGIN:VCALENDAR
VERSION:2.0
PRODID:-//The Conservatory - ECPv4.5.12.3//NONSGML v1.0//EN
CALSCALE:GREGORIAN
METHOD:PUBLISH
X-WR-CALNAME:The Conservatory
X-ORIGINAL-URL:http://dancesadc.com
X-WR-CALDESC:Events for The Conservatory
BEGIN:VEVENT
DTSTART;VALUE=DATE:20180509
DTEND;VALUE=DATE:20180509
DTSTAMP:20260425T105152
CREATED:20180411T205455Z
LAST-MODIFIED:20180411T205455Z
UID:1398-1525824000-1525910399@dancesadc.com
SUMMARY:No Classes for The Perla Ballet School
DESCRIPTION:
URL:http://dancesadc.com/event/no-classes-for-the-perla-ballet-school-4/
LOCATION:3670 US-1 South\, Suite 150\, St. Augustine\, FL\, 32086\, United States
END:VEVENT
END:VCALENDAR