BEGIN:VCALENDAR
VERSION:2.0
PRODID:-//The Conservatory - ECPv4.5.12.3//NONSGML v1.0//EN
CALSCALE:GREGORIAN
METHOD:PUBLISH
X-WR-CALNAME:The Conservatory
X-ORIGINAL-URL:http://dancesadc.com
X-WR-CALDESC:Events for The Conservatory
BEGIN:VEVENT
DTSTART;VALUE=DATE:20180427
DTEND;VALUE=DATE:20180427
DTSTAMP:20260425T104245
CREATED:20180411T204750Z
LAST-MODIFIED:20180411T204750Z
UID:1381-1524787200-1524873599@dancesadc.com
SUMMARY:No Classes for The Perla Ballet School
DESCRIPTION:
URL:http://dancesadc.com/event/no-classes-for-the-perla-ballet-school/
LOCATION:3670 US-1 South\, Suite 150\, St. Augustine\, FL\, 32086\, United States
END:VEVENT
END:VCALENDAR