BEGIN:VCALENDAR
VERSION:2.0
PRODID:-//The Conservatory - ECPv4.5.12.3//NONSGML v1.0//EN
CALSCALE:GREGORIAN
METHOD:PUBLISH
X-WR-CALNAME:The Conservatory
X-ORIGINAL-URL:http://dancesadc.com
X-WR-CALDESC:Events for The Conservatory
BEGIN:VEVENT
DTSTART;TZID=UTC+0:20171216T090000
DTEND;TZID=UTC+0:20171216T160000
DTSTAMP:20260425T121506
CREATED:20171013T165600Z
LAST-MODIFIED:20171013T165600Z
UID:1180-1513414800-1513440000@dancesadc.com
SUMMARY:Nutcracker Rehearsal - Full Dress Rehearsal
DESCRIPTION:
URL:http://dancesadc.com/event/nutcracker-rehearsal-full-dress-rehearsal/
LOCATION:600 FL-206\, St Augustine\, FL\, 32086\, United States
END:VEVENT
END:VCALENDAR