BEGIN:VCALENDAR
VERSION:2.0
PRODID:-//The Conservatory - ECPv4.5.12.3//NONSGML v1.0//EN
CALSCALE:GREGORIAN
METHOD:PUBLISH
X-WR-CALNAME:The Conservatory
X-ORIGINAL-URL:http://dancesadc.com
X-WR-CALDESC:Events for The Conservatory
BEGIN:VEVENT
DTSTART;TZID=UTC+0:20171130T180000
DTEND;TZID=UTC+0:20171130T203000
DTSTAMP:20260425T163218
CREATED:20171013T164935Z
LAST-MODIFIED:20171013T164935Z
UID:1158-1512064800-1512073800@dancesadc.com
SUMMARY:Nutcracker Rehearsal - Sr. Company Review All
DESCRIPTION:
URL:http://dancesadc.com/event/nutcracker-rehearsal-sr-company-review-all-5/
LOCATION:3670 US-1 South\, Suite 150\, St. Augustine\, FL\, 32086\, United States
END:VEVENT
END:VCALENDAR