BEGIN:VCALENDAR
VERSION:2.0
PRODID:-//The Conservatory - ECPv4.5.12.3//NONSGML v1.0//EN
CALSCALE:GREGORIAN
METHOD:PUBLISH
X-WR-CALNAME:The Conservatory
X-ORIGINAL-URL:http://dancesadc.com
X-WR-CALDESC:Events for The Conservatory
BEGIN:VEVENT
DTSTART;TZID=UTC+0:20171104T120000
DTEND;TZID=UTC+0:20171104T130000
DTSTAMP:20260426T021242
CREATED:20171013T160450Z
LAST-MODIFIED:20171013T160450Z
UID:1140-1509796800-1509800400@dancesadc.com
SUMMARY:Nutcracker Rehearsal - Sr. Company Warm-Up Class
DESCRIPTION:
URL:http://dancesadc.com/event/nutcracker-rehearsal-sr-company-warm-up-class-2/
LOCATION:3670 US-1 South\, Suite 150\, St. Augustine\, FL\, 32086\, United States
END:VEVENT
END:VCALENDAR