BEGIN:VCALENDAR
VERSION:2.0
PRODID:-//The Conservatory - ECPv4.5.12.3//NONSGML v1.0//EN
CALSCALE:GREGORIAN
METHOD:PUBLISH
X-WR-CALNAME:The Conservatory
X-ORIGINAL-URL:http://dancesadc.com
X-WR-CALDESC:Events for The Conservatory
BEGIN:VEVENT
DTSTART;TZID=UTC+0:20180310T153000
DTEND;TZID=UTC+0:20180310T163000
DTSTAMP:20260425T133536
CREATED:20180308T203452Z
LAST-MODIFIED:20180308T203452Z
UID:1321-1520695800-1520699400@dancesadc.com
SUMMARY:Rehearsal - SR. Company - Morgan\, Alaina\, Ava
DESCRIPTION:
URL:http://dancesadc.com/event/rehearsal-sr-company-morgan-alaina-ava/
LOCATION:3670 US-1 South\, Suite 150\, St. Augustine\, FL\, 32086\, United States
END:VEVENT
END:VCALENDAR