BEGIN:VCALENDAR
VERSION:2.0
PRODID:-//The Conservatory - ECPv4.5.12.3//NONSGML v1.0//EN
CALSCALE:GREGORIAN
METHOD:PUBLISH
X-WR-CALNAME:The Conservatory
X-ORIGINAL-URL:http://dancesadc.com
X-WR-CALDESC:Events for The Conservatory
BEGIN:VEVENT
DTSTART;TZID=UTC+0:20180317T120000
DTEND;TZID=UTC+0:20180317T160000
DTSTAMP:20260425T133612
CREATED:20180226T162034Z
LAST-MODIFIED:20180309T144330Z
UID:1263-1521288000-1521302400@dancesadc.com
SUMMARY:Rehearsal - The Mermaid Princess
DESCRIPTION:Exact Rehearsal Period(s) TBD \n
URL:http://dancesadc.com/event/rehearsal-the-mermaid-princess-sr-company-5/
LOCATION:3670 US-1 South\, Suite 150\, St. Augustine\, FL\, 32086\, United States
END:VEVENT
END:VCALENDAR