BEGIN:VCALENDAR
VERSION:2.0
PRODID:-//The Conservatory - ECPv4.5.12.3//NONSGML v1.0//EN
CALSCALE:GREGORIAN
METHOD:PUBLISH
X-WR-CALNAME:The Conservatory
X-ORIGINAL-URL:http://dancesadc.com
X-WR-CALDESC:Events for The Conservatory
BEGIN:VEVENT
DTSTART;VALUE=DATE:20171123
DTEND;VALUE=DATE:20171123
DTSTAMP:20260425T164822
CREATED:20171117T220151Z
LAST-MODIFIED:20171117T220151Z
UID:1202-1511395200-1511481599@dancesadc.com
SUMMARY:Studio Closed for Thanksgiving - ENJOY!
DESCRIPTION:
URL:http://dancesadc.com/event/studio-closed-for-thanksgiving-enjoy-2/
END:VEVENT
END:VCALENDAR