BEGIN:VCALENDAR
VERSION:2.0
PRODID:-//The Conservatory - ECPv4.5.12.3//NONSGML v1.0//EN
CALSCALE:GREGORIAN
METHOD:PUBLISH
X-WR-CALNAME:The Conservatory
X-ORIGINAL-URL:http://dancesadc.com
X-WR-CALDESC:Events for The Conservatory
BEGIN:VEVENT
DTSTART;TZID=UTC+0:20180526T190000
DTEND;TZID=UTC+0:20180526T210000
DTSTAMP:20260425T105131
CREATED:20180226T163034Z
LAST-MODIFIED:20180226T163034Z
UID:1282-1527361200-1527368400@dancesadc.com
SUMMARY:The Mermaid Princess
DESCRIPTION:
URL:http://dancesadc.com/event/the-mermaid-princess/
LOCATION:14 Granada St.\, St. Augustine\, FL\, 32084\, United States
END:VEVENT
END:VCALENDAR