BEGIN:VCALENDAR
VERSION:2.0
PRODID:-//The Conservatory - ECPv4.5.12.3//NONSGML v1.0//EN
CALSCALE:GREGORIAN
METHOD:PUBLISH
X-WR-CALNAME:The Conservatory
X-ORIGINAL-URL:http://dancesadc.com
X-WR-CALDESC:Events for The Conservatory
BEGIN:VEVENT
DTSTART;TZID=UTC+0:20180310T110000
DTEND;TZID=UTC+0:20180310T123000
DTSTAMP:20260425T120703
CREATED:20180308T203606Z
LAST-MODIFIED:20180308T203606Z
UID:1323-1520679600-1520685000@dancesadc.com
SUMMARY:Rehearsal - JR. Apprentice
DESCRIPTION:
URL:http://dancesadc.com/event/rehearsal-jr-apprentice/
LOCATION:3670 US-1 South\, Suite 150\, St. Augustine\, FL\, 32086\, United States
END:VEVENT
BEGIN:VEVENT
DTSTART;TZID=UTC+0:20180310T113000
DTEND;TZID=UTC+0:20180310T133000
DTSTAMP:20260425T120703
CREATED:20180308T203654Z
LAST-MODIFIED:20180308T203654Z
UID:1325-1520681400-1520688600@dancesadc.com
SUMMARY:Rehearsal - JR. Company
DESCRIPTION:
URL:http://dancesadc.com/event/rehearsal-jr-company/
LOCATION:3670 US-1 South\, Suite 150\, St. Augustine\, FL\, 32086\, United States
END:VEVENT
BEGIN:VEVENT
DTSTART;TZID=UTC+0:20180310T120000
DTEND;TZID=UTC+0:20180310T123000
DTSTAMP:20260425T120703
CREATED:20180226T161939Z
LAST-MODIFIED:20180308T203041Z
UID:1259-1520683200-1520685000@dancesadc.com
SUMMARY:Rehearsal - SR. Company - Warm Up
DESCRIPTION:NOT OPTIONAL \n
URL:http://dancesadc.com/event/rehearsal-the-mermaid-princess-sr-company-3/
LOCATION:3670 US-1 South\, Suite 150\, St. Augustine\, FL\, 32086\, United States
END:VEVENT
BEGIN:VEVENT
DTSTART;TZID=UTC+0:20180310T123000
DTEND;TZID=UTC+0:20180310T133000
DTSTAMP:20260425T120703
CREATED:20180308T203136Z
LAST-MODIFIED:20180308T203136Z
UID:1312-1520685000-1520688600@dancesadc.com
SUMMARY:Rehearsal - SR. Company - Village
DESCRIPTION:
URL:http://dancesadc.com/event/rehearsal-sr-company-village/
LOCATION:3670 US-1 South\, Suite 150\, St. Augustine\, FL\, 32086\, United States
END:VEVENT
BEGIN:VEVENT
DTSTART;TZID=UTC+0:20180310T133000
DTEND;TZID=UTC+0:20180310T143000
DTSTAMP:20260425T120703
CREATED:20180308T203216Z
LAST-MODIFIED:20180308T203216Z
UID:1314-1520688600-1520692200@dancesadc.com
SUMMARY:Rehearsal - SR. Company - Opening
DESCRIPTION:
URL:http://dancesadc.com/event/rehearsal-sr-company-opening/
LOCATION:3670 US-1 South\, Suite 150\, St. Augustine\, FL\, 32086\, United States
END:VEVENT
BEGIN:VEVENT
DTSTART;TZID=UTC+0:20180310T133000
DTEND;TZID=UTC+0:20180310T143000
DTSTAMP:20260425T120703
CREATED:20180308T203743Z
LAST-MODIFIED:20180308T203743Z
UID:1327-1520688600-1520692200@dancesadc.com
SUMMARY:Rehearsal - JR. "Fish" - Opening
DESCRIPTION:
URL:http://dancesadc.com/event/rehearsal-jr-fish-opening/
LOCATION:3670 US-1 South\, Suite 150\, St. Augustine\, FL\, 32086\, United States
END:VEVENT
BEGIN:VEVENT
DTSTART;TZID=UTC+0:20180310T143000
DTEND;TZID=UTC+0:20180310T153000
DTSTAMP:20260425T120703
CREATED:20180308T203251Z
LAST-MODIFIED:20180308T203251Z
UID:1316-1520692200-1520695800@dancesadc.com
SUMMARY:Rehearsal - SR. Company - Sailors
DESCRIPTION:
URL:http://dancesadc.com/event/rehearsal-sr-company-sailors/
LOCATION:3670 US-1 South\, Suite 150\, St. Augustine\, FL\, 32086\, United States
END:VEVENT
BEGIN:VEVENT
DTSTART;TZID=UTC+0:20180310T153000
DTEND;TZID=UTC+0:20180310T163000
DTSTAMP:20260425T120703
CREATED:20180308T203340Z
LAST-MODIFIED:20180308T203340Z
UID:1318-1520695800-1520699400@dancesadc.com
SUMMARY:Rehearsal - SR. Company - Sea Creatures
DESCRIPTION:
URL:http://dancesadc.com/event/rehearsal-sr-company-sea-creatures/
LOCATION:3670 US-1 South\, Suite 150\, St. Augustine\, FL\, 32086\, United States
END:VEVENT
BEGIN:VEVENT
DTSTART;TZID=UTC+0:20180310T153000
DTEND;TZID=UTC+0:20180310T163000
DTSTAMP:20260425T120703
CREATED:20180308T203452Z
LAST-MODIFIED:20180308T203452Z
UID:1321-1520695800-1520699400@dancesadc.com
SUMMARY:Rehearsal - SR. Company - Morgan\, Alaina\, Ava
DESCRIPTION:
URL:http://dancesadc.com/event/rehearsal-sr-company-morgan-alaina-ava/
LOCATION:3670 US-1 South\, Suite 150\, St. Augustine\, FL\, 32086\, United States
END:VEVENT
END:VCALENDAR