BEGIN:VCALENDAR
VERSION:2.0
PRODID:-//The Conservatory - ECPv4.5.12.3//NONSGML v1.0//EN
CALSCALE:GREGORIAN
METHOD:PUBLISH
X-WR-CALNAME:The Conservatory
X-ORIGINAL-URL:http://dancesadc.com
X-WR-CALDESC:Events for The Conservatory
BEGIN:VEVENT
DTSTART;TZID=UTC+0:20180319T180000
DTEND;TZID=UTC+0:20180319T203000
DTSTAMP:20260425T120708
CREATED:20180319T140117Z
LAST-MODIFIED:20180319T140117Z
UID:1349-1521482400-1521491400@dancesadc.com
SUMMARY:Sr. Rehearsal - The Mermaid Princess
DESCRIPTION:
URL:http://dancesadc.com/event/sr-rehearsal-the-mermaid-princess/
LOCATION:3670 US-1 South\, Suite 150\, St. Augustine\, FL\, 32086\, United States
END:VEVENT
END:VCALENDAR