BEGIN:VCALENDAR
VERSION:2.0
PRODID:-//The Conservatory - ECPv4.5.12.3//NONSGML v1.0//EN
CALSCALE:GREGORIAN
METHOD:PUBLISH
X-WR-CALNAME:The Conservatory
X-ORIGINAL-URL:http://dancesadc.com
X-WR-CALDESC:Events for The Conservatory
BEGIN:VEVENT
DTSTART;TZID=UTC+0:20180322T120000
DTEND;TZID=UTC+0:20180322T123000
DTSTAMP:20260425T132450
CREATED:20180226T164222Z
LAST-MODIFIED:20180226T164222Z
UID:1296-1521720000-1521721800@dancesadc.com
SUMMARY:Performance - The Perla Ballet School - Classical Conversation
DESCRIPTION:
URL:http://dancesadc.com/event/performance-the-perla-ballet-school-classical-conversation-2/
END:VEVENT
BEGIN:VEVENT
DTSTART;TZID=UTC+0:20180322T180000
DTEND;TZID=UTC+0:20180322T203000
DTSTAMP:20260425T132450
CREATED:20180226T162101Z
LAST-MODIFIED:20180226T162101Z
UID:1265-1521741600-1521750600@dancesadc.com
SUMMARY:Rehearsal - The Mermaid Princess - SR. Company
DESCRIPTION:
URL:http://dancesadc.com/event/rehearsal-the-mermaid-princess-sr-company-6/
LOCATION:3670 US-1 South\, Suite 150\, St. Augustine\, FL\, 32086\, United States
END:VEVENT
BEGIN:VEVENT
DTSTART;TZID=UTC+0:20180322T180000
DTEND;TZID=UTC+0:20180322T203000
DTSTAMP:20260425T132450
CREATED:20180319T140142Z
LAST-MODIFIED:20180319T140142Z
UID:1351-1521741600-1521750600@dancesadc.com
SUMMARY:Sr. Rehearsal - The Mermaid Princess
DESCRIPTION:
URL:http://dancesadc.com/event/sr-rehearsal-the-mermaid-princess-2/
LOCATION:3670 US-1 South\, Suite 150\, St. Augustine\, FL\, 32086\, United States
END:VEVENT
END:VCALENDAR