BEGIN:VCALENDAR
VERSION:2.0
PRODID:-//The Conservatory - ECPv4.5.12.3//NONSGML v1.0//EN
CALSCALE:GREGORIAN
METHOD:PUBLISH
X-WR-CALNAME:The Conservatory
X-ORIGINAL-URL:http://dancesadc.com
X-WR-CALDESC:Events for The Conservatory
BEGIN:VEVENT
DTSTART;TZID=UTC+0:20180323T173000
DTEND;TZID=UTC+0:20180323T210000
DTSTAMP:20260425T120709
CREATED:20180226T162127Z
LAST-MODIFIED:20180319T140342Z
UID:1267-1521826200-1521838800@dancesadc.com
SUMMARY:TBD Rehearsal - The Mermaid Princess
DESCRIPTION:Exact Rehearsal Period(s) TBD \n
URL:http://dancesadc.com/event/rehearsal-the-mermaid-princess-sr-company-7/
LOCATION:3670 US-1 South\, Suite 150\, St. Augustine\, FL\, 32086\, United States
END:VEVENT
END:VCALENDAR