BEGIN:VCALENDAR
VERSION:2.0
PRODID:-//The Conservatory - ECPv4.5.12.3//NONSGML v1.0//EN
CALSCALE:GREGORIAN
METHOD:PUBLISH
X-WR-CALNAME:The Conservatory
X-ORIGINAL-URL:http://dancesadc.com
X-WR-CALDESC:Events for The Conservatory
BEGIN:VEVENT
DTSTART;TZID=UTC+0:20180407T120000
DTEND;TZID=UTC+0:20180407T163000
DTSTAMP:20260425T104202
CREATED:20180308T204758Z
LAST-MODIFIED:20180308T204758Z
UID:1329-1523102400-1523118600@dancesadc.com
SUMMARY:Rehearsal - The Mermaid Princess
DESCRIPTION:
URL:http://dancesadc.com/event/rehearsal-the-mermaid-princess/
LOCATION:3670 US-1 South\, Suite 150\, St. Augustine\, FL\, 32086\, United States
END:VEVENT
END:VCALENDAR